BEGIN:VCALENDAR
VERSION:2.0
PRODID:-//Arci Bolzano - Bozen - ECPv6.6.3//NONSGML v1.0//EN
CALSCALE:GREGORIAN
METHOD:PUBLISH
X-WR-CALNAME:Arci Bolzano - Bozen
X-ORIGINAL-URL:https://arci.bz.it
X-WR-CALDESC:Eventi per Arci Bolzano - Bozen
REFRESH-INTERVAL;VALUE=DURATION:PT1H
X-Robots-Tag:noindex
X-PUBLISHED-TTL:PT1H
BEGIN:VTIMEZONE
TZID:Europe/Rome
BEGIN:DAYLIGHT
TZOFFSETFROM:+0100
TZOFFSETTO:+0200
TZNAME:CEST
DTSTART:20210328T010000
END:DAYLIGHT
BEGIN:STANDARD
TZOFFSETFROM:+0200
TZOFFSETTO:+0100
TZNAME:CET
DTSTART:20211031T010000
END:STANDARD
END:VTIMEZONE
BEGIN:VEVENT
DTSTART;TZID=Europe/Rome:20211203T193000
DTEND;TZID=Europe/Rome:20211203T230000
DTSTAMP:20260423T011149
CREATED:20211129T102113Z
LAST-MODIFIED:20211129T130924Z
UID:3957-1638559800-1638572400@arci.bz.it
SUMMARY:Torna Sidewalk Bolzano con Open Mic e reel edition
DESCRIPTION:Dopo più di un anno torna finalmente l’Open Mic di Sidewalk Bolzano con una novità\, la reel edition!\n\nQuando?\nVenerdì 3 dicembre alle ore 19:30 al Pippo.Foodchillstage\, Parco Petrarca a Bolzano.\n\n\n\n\nCos’è Sidewalk?\nSidewalk Bolzano è un collettivo che organizza e cura spazi di espressione\, workshop e pubblicazioni indipendenti.\nL’Open Mic è un’iniziativa pensata per offrire uno spazio di condivisione.  Ognuno ha la possibilità di salire sul palco ed esprimersi in qualsiasi forma. Hai un unico limite: il tempo. Infatti per permettere a quante più persone di condividere la loro arte\, hai a disposizione 5 minuti per la tua esibizione.\n\n\n\n\nTi piacerebbe esibirti? \nLe iscrizioni per esibirsi partono a inizio serata – troverete Alejandra che vi accoglierà e guiderà.\nOltre al tradizionale format\, quest’anno ci sarà l’opportunità\, su richiesta dell’artista\, di avere un estratto video della propria esibizione grazie alla reel edition!\n\n\n\n\nAccesso e partecipazione\n\nAccesso solo con prenotazione online su Eventbrite: clicca qui. \nPer le norme in vigore i posti a sedere saranno limitati\, quindi vi consigliamo di prenotare online il prima possibile.\n\nSi richiedono Green Pass e l’uso della mascherina.\n\n\n\nFeature artist\n\nIde Maman\nRegista e attore nato in Zinder (Niger). Ha coltivato il suo interesse in vari ambiti artistici\, tra cui cinema documentario\, teatro\, scrittura\, fotografia\, e musico-terapia. Da cinque anni svolge la sua attività artistica a Bolzano.\n\nHost\nPaolo Tosin e Adriana Ghimp\n\n\n\n\n\n\n Per qualsiasi proposta\, dubbio o richiesta particolare per la tua esibizione scrivi a sidewalkbolzano@gmail.com
URL:https://arci.bz.it/evento/torna-open-mic-di-sidewalk-bolzano-con-la-reel-edition/
LOCATION:Pippo\, Via Cadorna\, Bolzano\, Bolzano\, 39100\, Italia
ATTACH;FMTTYPE=image/jpeg:https://arci.bz.it/wp-content/uploads/2021/11/sidewalk.jpg
GEO:46.503046238143334;11.345657275882976
X-APPLE-STRUCTURED-LOCATION;VALUE=URI;X-ADDRESS=Pippo Via Cadorna Bolzano Bolzano 39100 Italia;X-APPLE-RADIUS=500;X-TITLE=Via Cadorna:geo:11.345657275882976,46.503046238143334
END:VEVENT
END:VCALENDAR