BEGIN:VCALENDAR
VERSION:2.0
PRODID:-//Arci Bolzano - Bozen - ECPv6.6.3//NONSGML v1.0//EN
CALSCALE:GREGORIAN
METHOD:PUBLISH
X-ORIGINAL-URL:https://arci.bz.it
X-WR-CALDESC:Eventi per Arci Bolzano - Bozen
REFRESH-INTERVAL;VALUE=DURATION:PT1H
X-Robots-Tag:noindex
X-PUBLISHED-TTL:PT1H
BEGIN:VTIMEZONE
TZID:Europe/Rome
BEGIN:DAYLIGHT
TZOFFSETFROM:+0100
TZOFFSETTO:+0200
TZNAME:CEST
DTSTART:20210328T010000
END:DAYLIGHT
BEGIN:STANDARD
TZOFFSETFROM:+0200
TZOFFSETTO:+0100
TZNAME:CET
DTSTART:20211031T010000
END:STANDARD
END:VTIMEZONE
BEGIN:VEVENT
DTSTART;TZID=Europe/Rome:20211112T200000
DTEND;TZID=Europe/Rome:20211112T213000
DTSTAMP:20260423T011228
CREATED:20211011T143427Z
LAST-MODIFIED:20211011T143427Z
UID:3485-1636747200-1636752600@arci.bz.it
SUMMARY:Le Mille e una Scienza - Apertura
DESCRIPTION:Prende il via Le mille e una scienza\, il primo Festival della Scienza promosso dal Centro di cultura Giovanile TesLab – Arciragazzi Bolzano Bozen  e l’associazione di divulgazione scientifica Accatagliato\, con il sostegno dell’Ufficio Politiche Giovanili della Provincia Autonoma di Bolzano. \nOre 20.00 – Inaugurazione del festival – INDAGARE I MISTERI CON LA LENTE DELLA SCIENZA. \n Conferenza/spettacolo a cura di Massimo Polidoro (CICAP)  \nhttps://arci.bz.it/wp-content/uploads/2021/10/polidoroxbolzano.m4v\n  \nGestione ingresso causa Covid-19: \nViste le norme igienico sanitarie in vigore causa Covid-19 l’ingresso ai Talk sarà garantito solamente con GreenPass\, mascherina e igienizzazione delle mani. \nPer partecipare ai talk non è necessario iscriversi\, ma si raccomanda a coloro che desiderano partecipare\, di presentarsi 20 minuti prima dell’inizio della conferenza all’ingresso del Centro Trevi. Un nostro collaboratore assegnerà agli spettatori un numero di ingresso. Esauriti i ticket non potremo più far entrare nessuno. Chi non riuscirà ad accedere alla conferenza\, potrà comunque visitare il Festival all’interno del Centro Trevi. \n \nClicca qui per il programma completo del Festival.  \nSocial: \n  
URL:https://arci.bz.it/evento/le-mille-e-una-scienza-apertura/
ATTACH;FMTTYPE=image/png:https://arci.bz.it/wp-content/uploads/2021/10/V.png
END:VEVENT
END:VCALENDAR