BEGIN:VCALENDAR
VERSION:2.0
PRODID:-//Arci Bolzano - Bozen - ECPv6.6.3//NONSGML v1.0//EN
CALSCALE:GREGORIAN
METHOD:PUBLISH
X-ORIGINAL-URL:https://arci.bz.it
X-WR-CALDESC:Eventi per Arci Bolzano - Bozen
REFRESH-INTERVAL;VALUE=DURATION:PT1H
X-Robots-Tag:noindex
X-PUBLISHED-TTL:PT1H
BEGIN:VTIMEZONE
TZID:Europe/Rome
BEGIN:DAYLIGHT
TZOFFSETFROM:+0100
TZOFFSETTO:+0200
TZNAME:CEST
DTSTART:20210328T010000
END:DAYLIGHT
BEGIN:STANDARD
TZOFFSETFROM:+0200
TZOFFSETTO:+0100
TZNAME:CET
DTSTART:20211031T010000
END:STANDARD
END:VTIMEZONE
BEGIN:VEVENT
DTSTART;TZID=Europe/Rome:20211014T163000
DTEND;TZID=Europe/Rome:20211014T173000
DTSTAMP:20260423T043451
CREATED:20211013T102915Z
LAST-MODIFIED:20211013T102924Z
UID:3617-1634229000-1634232600@arci.bz.it
SUMMARY:Mini Many Languages - Incontrare una lingua divertendosi!
DESCRIPTION:Mini Many Languages\, l’evento pensato per far incontrare ai piccoli una lingua divertendosi!\n\nQui si raccontano storie in inglese\, russo e tedesco tratte da libri illustrati o direttamente dalla fantasia degli storyteller. Scommettiamo che capirete tutto? Scoprirai tanti libri e materiali con cui continuare a giocare anche a casa. \n\n\n\n\n14 ottobre: Appuntamento con la lingua inglese\nDove?\nAl Centro Multilingue\, all’interno del Centro Culturale Trevi di Bolzano. \nIl programma completo\n  \n \n \n Per dubbi e informazioni www.sagapoteatro.com \n\nA cura di Sagapò Teatro\nIn collaborazione con Ufficio Bilinguismo e Lingue Straniere – Provincia autonoma di Bolzano
URL:https://arci.bz.it/evento/mini-many-languages-incontrare-una-lingua-divertendosi-4/
LOCATION:Centro trevi\, via Cappuccini 28\, Bolzano\, 39100\, Italia
ATTACH;FMTTYPE=image/jpeg:https://arci.bz.it/wp-content/uploads/2021/10/WhatsApp-Image-2021-10-12-at-15.10.35.jpeg
END:VEVENT
BEGIN:VEVENT
DTSTART;TZID=Europe/Rome:20211014T163000
DTEND;TZID=Europe/Rome:20211014T173000
DTSTAMP:20260423T043451
CREATED:20211013T103327Z
LAST-MODIFIED:20211013T124906Z
UID:3623-1634229000-1634232600@arci.bz.it
SUMMARY:Mini Many Languages - Incontrare una lingua divertendosi! - Merano
DESCRIPTION:Mini Many Languages\, l’evento pensato per far incontrare ai piccoli una lingua divertendosi!\n\nQui si raccontano storie in inglese\, russo e tedesco tratte da libri illustrati o direttamente dalla fantasia degli storyteller. Scommettiamo che capirete tutto? Scoprirai tanti libri e materiali con cui continuare a giocare anche a casa. \n\n\n\n\n14 ottobre: Appuntamento con la lingua tedesca\nDove?\nA Merano\, presso la Mediateca Multilingue\, Piazza della Rena\, 10. \nIl programma completo\n  \n \n \n Per dubbi e informazioni www.sagapoteatro.com \n\nA cura di Sagapò Teatro\nIn collaborazione con Ufficio Bilinguismo e Lingue Straniere – Provincia autonoma di Bolzano
URL:https://arci.bz.it/evento/mini-many-languages-incontrare-una-lingua-divertendosi-5/
LOCATION:Mediateca Multilingue\, Piazza della Rena\, 10\, Merano\, Italia\, 39012
ATTACH;FMTTYPE=image/jpeg:https://arci.bz.it/wp-content/uploads/2021/10/WhatsApp-Image-2021-10-12-at-15.10.35.jpeg
END:VEVENT
END:VCALENDAR