BEGIN:VCALENDAR
VERSION:2.0
PRODID:-//Arci Bolzano - Bozen - ECPv6.6.3//NONSGML v1.0//EN
CALSCALE:GREGORIAN
METHOD:PUBLISH
X-ORIGINAL-URL:https://arci.bz.it
X-WR-CALDESC:Eventi per Arci Bolzano - Bozen
REFRESH-INTERVAL;VALUE=DURATION:PT1H
X-Robots-Tag:noindex
X-PUBLISHED-TTL:PT1H
BEGIN:VTIMEZONE
TZID:Europe/Rome
BEGIN:DAYLIGHT
TZOFFSETFROM:+0100
TZOFFSETTO:+0200
TZNAME:CEST
DTSTART:20210328T010000
END:DAYLIGHT
BEGIN:STANDARD
TZOFFSETFROM:+0200
TZOFFSETTO:+0100
TZNAME:CET
DTSTART:20211031T010000
END:STANDARD
END:VTIMEZONE
BEGIN:VEVENT
DTSTART;TZID=Europe/Rome:20211008T100000
DTEND;TZID=Europe/Rome:20211008T170000
DTSTAMP:20260423T043549
CREATED:20210921T111220Z
LAST-MODIFIED:20211006T122753Z
UID:3073-1633687200-1633712400@arci.bz.it
SUMMARY:Urban Play Agenda 2030
DESCRIPTION:Urban Play Agenda 2030 è un percorso a tappe sui 17 obiettivi dell’agenda ONU 2030 a Bolzano e provincia nell’ambito del festival nazionale dello sviluppo sostenibile di asvis. \nCosa faremo?\nAttraverso giochi\, incontri\, spazi bibliografici\, spettacoli e musica la cittadinanza potrà scoprire tutti gli obiettivi dell’agenda. \nCosa fare quindi? Mettersi delle belle scarpe comode\, spolverare biciclette e monopattini\, consultare la mappa e raggiungere tutti i luoghi segnalati per scoprire qualcosa di più sull’Agenda 2030 e sulle associazioni\, enti e aziende che hanno aderito al progetto. \nOgni tappa è gestita da uno dei 30 partner del progetto con una proposta specifica sul tema dello sviluppo sostenibile.\n\nArci e Arciragazzi Bolzano per Urban Play Agenda 2030 \nNoi saremo all’anfiteatro del Parco Petrarca e svilupperemo l’obiettivo 10 (ridurre le disuguaglianze). \nLa nostra attività:\nOre 15.30 gioco Moksha-Patamu tratto dal manuale di Compasito sui diritti dei bambini. \n  \n\n		\n		\n			\n				\n			\n				\n				Partner e programma\n				\n			\n				\n			\n				\n				Tappe nella città\n				\n		\n\nQui il pieghevole dell’evento \n  \nCos’è l’Agenda 2030?\nL’Agenda 2030 dell’Onu per lo sviluppo sostenibile è stata sottoscritta il 25 settembre 2015 da 193 Paesi delle Nazioni unite\, tra cui l’Italia. E’ un piano d’azione per le persone\, per il nostro pianeta\, per immaginare ed agire concretamente verso un futuro sostenibile non solo sul piano ambientale\, ma anche su quello economico e sociale. La dimensione concreta dell’azione è racchiusa in 17 macro obbiettivi con tantissime sotto-azioni che ciascun paese firmatario si impegna a raggiungere. \n  \n \nEvento a cura di Studio Comune \n Per info: info@studiocomune.eu
URL:https://arci.bz.it/evento/urban-play-agenda-2030-a-bolzano/
LOCATION:Pippo\, Via Cadorna\, Bolzano\, Bolzano\, 39100\, Italia
ATTACH;FMTTYPE=image/jpeg:https://arci.bz.it/wp-content/uploads/2021/09/agenda-2030.jpg
GEO:46.503046238143334;11.345657275882976
X-APPLE-STRUCTURED-LOCATION;VALUE=URI;X-ADDRESS=Pippo Via Cadorna Bolzano Bolzano 39100 Italia;X-APPLE-RADIUS=500;X-TITLE=Via Cadorna:geo:11.345657275882976,46.503046238143334
END:VEVENT
END:VCALENDAR