BEGIN:VCALENDAR
VERSION:2.0
PRODID:-//Arci Bolzano - Bozen - ECPv6.6.3//NONSGML v1.0//EN
CALSCALE:GREGORIAN
METHOD:PUBLISH
X-WR-CALNAME:Arci Bolzano - Bozen
X-ORIGINAL-URL:https://arci.bz.it
X-WR-CALDESC:Eventi per Arci Bolzano - Bozen
REFRESH-INTERVAL;VALUE=DURATION:PT1H
X-Robots-Tag:noindex
X-PUBLISHED-TTL:PT1H
BEGIN:VTIMEZONE
TZID:Europe/Rome
BEGIN:DAYLIGHT
TZOFFSETFROM:+0100
TZOFFSETTO:+0200
TZNAME:CEST
DTSTART:20210328T010000
END:DAYLIGHT
BEGIN:STANDARD
TZOFFSETFROM:+0200
TZOFFSETTO:+0100
TZNAME:CET
DTSTART:20211031T010000
END:STANDARD
END:VTIMEZONE
BEGIN:VEVENT
DTSTART;TZID=Europe/Rome:20211002T100000
DTEND;TZID=Europe/Rome:20211002T120000
DTSTAMP:20260423T043554
CREATED:20210930T105147Z
LAST-MODIFIED:20210930T144459Z
UID:3299-1633168800-1633176000@arci.bz.it
SUMMARY:Scenari in Movimento - Incontro con Grazia Barbiero
DESCRIPTION:Scenari in Movimento. Gli anni Settanta e Ottanta in Alto Adige/Südtirol  di Grazia Barbiero\nNei luoghi di confine si vede meglio la stoffa dei tempi che corrono \nGrazia Barbiero\, protagonista della politica altoatesina degli anni Settanta e Ottanta\, ripercorre in questo libro la storia locale della sinistra plurilingue\, dei movimenti femministi e della cultura alternativa di quel periodo. \nBarbiero racconta le diversità culturali come una ricchezza in difesa di un’identità che per mantenersi viva non deve per forza escludere le altre.  Ci parla di anni affascinanti\, un pozzo culturale da cui attingere per affrontare il futuro. \nPresenta Vanda Carbone\, già insegnante e assessora al Comune di Merano. \n \nPartecipazione gratuita \n\n\n\nL’evento si svolgerà al Bar 2000 Pippo.
URL:https://arci.bz.it/evento/scenari-in-movimento-incontro-con-grazia-barbiero/
LOCATION:Pippo\, Via Cadorna\, Bolzano\, Bolzano\, 39100\, Italia
ATTACH;FMTTYPE=image/png:https://arci.bz.it/wp-content/uploads/2021/09/INCONTRO-CON-LAUTRICE-GRAZIA-BARBIERO-2.png
GEO:46.503046238143334;11.345657275882976
X-APPLE-STRUCTURED-LOCATION;VALUE=URI;X-ADDRESS=Pippo Via Cadorna Bolzano Bolzano 39100 Italia;X-APPLE-RADIUS=500;X-TITLE=Via Cadorna:geo:11.345657275882976,46.503046238143334
END:VEVENT
END:VCALENDAR