BEGIN:VCALENDAR
VERSION:2.0
PRODID:-//Arci Bolzano - Bozen - ECPv6.6.3//NONSGML v1.0//EN
CALSCALE:GREGORIAN
METHOD:PUBLISH
X-ORIGINAL-URL:https://arci.bz.it
X-WR-CALDESC:Eventi per Arci Bolzano - Bozen
REFRESH-INTERVAL;VALUE=DURATION:PT1H
X-Robots-Tag:noindex
X-PUBLISHED-TTL:PT1H
BEGIN:VTIMEZONE
TZID:Europe/Rome
BEGIN:DAYLIGHT
TZOFFSETFROM:+0100
TZOFFSETTO:+0200
TZNAME:CEST
DTSTART:20210328T010000
END:DAYLIGHT
BEGIN:STANDARD
TZOFFSETFROM:+0200
TZOFFSETTO:+0100
TZNAME:CET
DTSTART:20211031T010000
END:STANDARD
END:VTIMEZONE
BEGIN:VEVENT
DTSTART;TZID=Europe/Rome:20210920T160000
DTEND;TZID=Europe/Rome:20210920T190000
DTSTAMP:20260423T061721
CREATED:20210913T113517Z
LAST-MODIFIED:20210913T124439Z
UID:2665-1632153600-1632164400@arci.bz.it
SUMMARY:Opening TesLab 21/22
DESCRIPTION:Alle ore 16.00 si aprono le porte del TesLab.\nSharon\, Enea e Matteo vi aspettano al secondo piano del Maso Premstaller. \nTutte le info necessarie nella Pagina Progetto dedicata. \nLeggi la news.\nSeguiteci sui nostri Social:
URL:https://arci.bz.it/evento/opening-teslab-21-22/
LOCATION:TesLab\, Via Dolomiti - Dolomitenstraße\, 14\, Bolzano\, Bolzano\, 39100
ATTACH;FMTTYPE=image/png:https://arci.bz.it/wp-content/uploads/2021/09/Sito_.png
ORGANIZER;CN="Arciragazzi":MAILTO:arciragazzi@arci.bz.it
GEO:46.496861;11.370693
X-APPLE-STRUCTURED-LOCATION;VALUE=URI;X-ADDRESS=TesLab Via Dolomiti - Dolomitenstraße 14 Bolzano Bolzano 39100;X-APPLE-RADIUS=500;X-TITLE=Via Dolomiti - Dolomitenstraße\, 14:geo:11.370693,46.496861
END:VEVENT
END:VCALENDAR