BEGIN:VCALENDAR
VERSION:2.0
PRODID:-//Arci Bolzano - Bozen - ECPv6.6.3//NONSGML v1.0//EN
CALSCALE:GREGORIAN
METHOD:PUBLISH
X-ORIGINAL-URL:https://arci.bz.it
X-WR-CALDESC:Eventi per Arci Bolzano - Bozen
REFRESH-INTERVAL;VALUE=DURATION:PT1H
X-Robots-Tag:noindex
X-PUBLISHED-TTL:PT1H
BEGIN:VTIMEZONE
TZID:Europe/Rome
BEGIN:DAYLIGHT
TZOFFSETFROM:+0100
TZOFFSETTO:+0200
TZNAME:CEST
DTSTART:20210328T010000
END:DAYLIGHT
BEGIN:STANDARD
TZOFFSETFROM:+0200
TZOFFSETTO:+0100
TZNAME:CET
DTSTART:20211031T010000
END:STANDARD
END:VTIMEZONE
BEGIN:VEVENT
DTSTART;TZID=Europe/Rome:20210909T170000
DTEND;TZID=Europe/Rome:20210912T190000
DTSTAMP:20260423T125310
CREATED:20210909T091521Z
LAST-MODIFIED:20210909T091949Z
UID:2545-1631206800-1631473200@arci.bz.it
SUMMARY:Barriere Workshop
DESCRIPTION:Workshop BARRIERE\n\n\nCrea il tuo dream team e realizza un cortometraggio\n\nRivolto a ragazzi e ragazze dai 18 ai 24 anni\n\n\n\n6 incontri presso il Pippo Foodchillstage a Bolzano\n\nGiovedì 9 settembre 2021 dalle 17 alle 19\nVenerdì 10 settembre 2021 dalle 17 alle 19\nSabato 11 settembre 2021 dalle 17 alle 19\nDomenica 12 settembre 2021 dalle 17 alle 19\n\n\n\n\nPer partecipare agli incontri è necessario mostrare il Green Pass all’ingresso\n\nRealizzato da KinaPix con il contributo della Provincia Autonoma di Bolzano e in collaborazione con Arci Bolzano\, Arciragazzi Bolzano\, Eagle Srvice\, Pippo.food.chill.stage.\n\n\n\nIscriviti tramite mail: workshopbarriere@gmail.com
URL:https://arci.bz.it/evento/barriere-workshop/
LOCATION:Pippo\, Via Cadorna\, Bolzano\, Bolzano\, 39100\, Italia
ATTACH;FMTTYPE=image/jpeg:https://arci.bz.it/wp-content/uploads/2021/09/barriere-Bolzano-2021.jpg
GEO:46.503046238143334;11.345657275882976
X-APPLE-STRUCTURED-LOCATION;VALUE=URI;X-ADDRESS=Pippo Via Cadorna Bolzano Bolzano 39100 Italia;X-APPLE-RADIUS=500;X-TITLE=Via Cadorna:geo:11.345657275882976,46.503046238143334
END:VEVENT
END:VCALENDAR